BEGIN:VCALENDAR
VERSION:2.0
PRODID:-//wp-events-plugin.com//7.2.3.1//EN
TZID:Europe/Berlin
X-WR-TIMEZONE:Europe/Berlin
BEGIN:VEVENT
UID:423@langenhain.com
DTSTART;TZID=Europe/Berlin:20250323T143000
DTEND;TZID=Europe/Berlin:20250323T143000
DTSTAMP:20250129T172228Z
URL:https://www.langenhain.com/Termine/cafe-im-ev-gemeindehaus-2025-03
SUMMARY:CAFÉ im Ev. Gemeindehaus\, 23.03.2025
DESCRIPTION:Genießen Sie in gemütlicher Atmosphäre leckere selbst geback
 ene Torten und Kuchen bei einer heißen Tasse Kaffee oder Tee. Gerne packe
 n wir Ihnen auch ein Kuchenpaket zum Mitnehmen nach Hause ein!\n\nKuchensp
 enden sowie Unterstützung bei Kuchenverkauf und Vorbereitung können gern
 e im Gemeindebüro angemeldet werden:\nTel.: 27268 oder Mail: kontakt@lang
 enhain-evangelisch.de
ATTACH;FMTTYPE=image/jpeg:https://www.langenhain.com/wp-content/uploads/20
 24/05/Cafe-im-Gemeindehaus-Logo.png
CATEGORIES:Ev. Kichengemeinde Langenhain
LOCATION:Ev. Gemeindehaus\, Alt Langenhain 41\, Hofheim am Taunus\, Hessen\
 , 65719\, Deutschland
X-APPLE-STRUCTURED-LOCATION;VALUE=URI;X-ADDRESS=Alt Langenhain 41\, Hofheim
  am Taunus\, Hessen\, 65719\, Deutschland;X-APPLE-RADIUS=100;X-TITLE=Ev. G
 emeindehaus:geo:0,0
END:VEVENT
BEGIN:VTIMEZONE
TZID:Europe/Berlin
X-LIC-LOCATION:Europe/Berlin
BEGIN:STANDARD
DTSTART:20241027T020000
TZOFFSETFROM:+0200
TZOFFSETTO:+0100
TZNAME:CET
END:STANDARD
END:VTIMEZONE
END:VCALENDAR